BEGIN:VCALENDAR
VERSION:2.0
PRODID:-//Squarespace Inc/Squarespace 6//v6//EN
BEGIN:VEVENT
UID:57aaf405197aea4564b62282@squarespace.com
DTSTAMP:20160810T093727Z
DTSTART:20161115T123000Z
DTEND:20161115T143000Z
SUMMARY:Les effets secondaires des traitements anti-hormonaux
END:VEVENT
END:VCALENDAR
