BEGIN:VCALENDAR
VERSION:2.0
PRODID:-//Squarespace Inc/Squarespace 6//v6//EN
BEGIN:VEVENT
UID:57aaf548e6f2e16320adf0de@squarespace.com
DTSTAMP:20160810T093651Z
DTSTART:20161121T123000Z
DTEND:20161121T143000Z
SUMMARY:La chirurgie préventive du cancer de la femme
END:VEVENT
END:VCALENDAR
