BEGIN:VCALENDAR
VERSION:2.0
PRODID:-//Squarespace Inc/Squarespace 6//v6//EN
BEGIN:VEVENT
UID:571f6b2701dbae7f62f245bd@squarespace.com
DTSTAMP:20170629T060053Z
DTSTART:20171107T123000Z
DTEND:20171107T143000Z
SUMMARY:Ateliers de relaxation\, de stabilisation émotionnelle
GEO:49.617262;6.097899
LOCATION:CHL Maternité - Salle de conférence au 1er étage\, 2\, Rue Pierre 
 Federspiel\, Luxembourg\, Luxembourg\, 1512\, Luxembourg
END:VEVENT
END:VCALENDAR
