BEGIN:VCALENDAR
VERSION:2.0
PRODID:-//Squarespace Inc/Squarespace 6//v6//EN
BEGIN:VEVENT
UID:585a773046c3c4f25a9a7dd1@squarespace.com
DTSTAMP:20161221T124243Z
DTSTART:20170206T123000Z
DTEND:20170206T143000Z
SUMMARY:La reconstruction après cancer du sein
END:VEVENT
END:VCALENDAR
