BEGIN:VCALENDAR
VERSION:2.0
PRODID:-//Squarespace Inc/Squarespace 6//v6//EN
BEGIN:VEVENT
UID:571f71237c65e45f849d0118@squarespace.com
DTSTAMP:20160427T090835Z
DTSTART:20160430T080000Z
DTEND:20160430T100000Z
SUMMARY:Comment parler du cancer à vos enfants\, à vos proches ?
GEO:49.617262;6.097899
LOCATION:CHL Maternité - Salle de conférence au 1er étage\, 2\, Rue Pierre 
 Federspiel\, Luxembourg\, Luxembourg\, 1512\, Luxembourg
END:VEVENT
END:VCALENDAR
