BEGIN:VCALENDAR
VERSION:2.0
PRODID:-//Squarespace Inc/Squarespace 6//v6//EN
BEGIN:VEVENT
UID:57205a7860b5e9fe9735fd83@squarespace.com
DTSTAMP:20160427T090026Z
DTSTART:20160621T113000Z
DTEND:20160621T133000Z
SUMMARY:J'ai peur de la rechute\, quelles sont les techniques qui peuvent m
 'aider?
GEO:49.617262;6.097899
LOCATION:CHL Maternité - Salle de conférence au 1er étage\, 2\, Rue Pierre 
 Federspiel\, 1512 Luxembourg\, Luxembourg
END:VEVENT
END:VCALENDAR
