BEGIN:VCALENDAR
VERSION:2.0
PRODID:-//Squarespace Inc/Squarespace 6//v6//EN
BEGIN:VEVENT
UID:57ab0af82994cadd0f3ac725@squarespace.com
DTSTAMP:20160810T110925Z
DTSTART:20160928T170000Z
DTEND:20160928T183000Z
SUMMARY:Cancer lobulaire du sein\, quelles approches spécifiques?
END:VEVENT
END:VCALENDAR
