BEGIN:VCALENDAR
VERSION:2.0
PRODID:-//Squarespace Inc/Squarespace 6//v6//EN
BEGIN:VEVENT
UID:57208d938259b53a9eed5c29@squarespace.com
DTSTAMP:20170629T060247Z
DTSTART:20170320T123000Z
DTEND:20170320T143000Z
SUMMARY:Ateliers de relaxation\, de stabilisation émotionnelle
GEO:49.617262;6.097899
LOCATION:CHL Maternité - Salle de conférence au 1er étage\, 2\, Rue Pierre 
 Federspiel\, 1512 Luxembourg\, Luxembourg
END:VEVENT
END:VCALENDAR
