BEGIN:VCALENDAR
VERSION:2.0
PRODID:-//Squarespace Inc/Squarespace 6//v6//EN
BEGIN:VEVENT
UID:57208f224c2f85be7fadc874@squarespace.com
DTSTAMP:20161227T072213Z
DTSTART:20170509T113000Z
DTEND:20170509T133000Z
SUMMARY:Quand mon attention\, ma concentration et ma mémoire me font défaut
 \, que puis-je faire?
GEO:49.617262;6.097899
LOCATION:CHL Maternité - Salle de conférence au 1er étage\, 2\, Rue Pierre 
 Federspiel\, 1512 Luxembourg\, Luxembourg
END:VEVENT
END:VCALENDAR
