BEGIN:VCALENDAR
VERSION:2.0
PRODID:-//Squarespace Inc/Squarespace 6//v6//EN
BEGIN:VEVENT
UID:596dcb1b59cc68a2a954a426@squarespace.com
DTSTAMP:20170918T082327Z
DTSTART:20171020T180000Z
DTEND:20171020T230000Z
SUMMARY:Ladies Night
GEO:49.588004;6.118977
LOCATION:Factory 4 fitness Club\, 4-6\, Rue François Hogenberg\, Luxembourg
 \, District de Luxembourg\, 1735\, Luxembourg
END:VEVENT
END:VCALENDAR
