BEGIN:VCALENDAR
VERSION:2.0
PRODID:-//Squarespace Inc/Squarespace 6//v6//EN
BEGIN:VEVENT
UID:596db15dcd0f68df1fe1ebac@squarespace.com
DTSTAMP:20170718T072736Z
DTSTART:20171007T070000Z
DTEND:20171007T140000Z
SUMMARY:15 ième édition: Broschtkriibslaf / Courir pour soutenir
GEO:49.60948;6.135748
LOCATION:Abbaye de Neimënster\, Rue Münster\, Luxembourg\, District de Luxe
 mbourg\, 2160\, Luxembourg
END:VEVENT
END:VCALENDAR
