BEGIN:VCALENDAR
VERSION:2.0
PRODID:-//Squarespace Inc/Squarespace 6//v6//EN
BEGIN:VEVENT
UID:57205045d51cd455398a3beb@squarespace.com
DTSTAMP:20170628T140512Z
DTSTART:20171121T123000Z
DTEND:20171121T143000Z
SUMMARY:Comment améliorer son sommeil avec des techniques de relaxation?
GEO:49.617262;6.097899
LOCATION:CHL Maternité - Salle de conférence au 1er étage\, 2\, Rue Pierre 
 Federspiel\, Luxembourg\, Luxembourg\, 1512\, Luxembourg
END:VEVENT
END:VCALENDAR
