BEGIN:VCALENDAR
VERSION:2.0
PRODID:-//Squarespace Inc/Squarespace 6//v6//EN
BEGIN:VEVENT
UID:5a1bca08652dea2e1a802ac4@squarespace.com
DTSTAMP:20171127T083329Z
DTSTART:20171130T173000Z
DTEND:20171130T190000Z
SUMMARY:„Burnout verhindern: Krebs – Behandlung…und dann zurück ins Hamster
 rad?“
GEO:49.615259;6.105573
LOCATION:Fondation Cancer\, 209\, Route d'Arlon\, Luxembourg\, District de 
 Luxembourg\, 1150\, Luxembourg
END:VEVENT
END:VCALENDAR
