BEGIN:VCALENDAR
VERSION:2.0
PRODID:-//Squarespace Inc/Squarespace 6//v6//EN
BEGIN:VEVENT
UID:5720775eb6aa6055fa26ba41@squarespace.com
DTSTAMP:20170628T140654Z
DTSTART:20171218T123000Z
DTEND:20171218T143000Z
SUMMARY:Ateliers de relaxation\, de stabilisation émotionnelle
GEO:49.617262;6.097899
LOCATION:CHL Maternité - Salle de conférence au 1er étage\, 2\, Rue Pierre 
 Federspiel\, Luxembourg\, Luxembourg\, 1512\, Luxembourg
END:VEVENT
END:VCALENDAR
