BEGIN:VCALENDAR
VERSION:2.0
PRODID:-//Squarespace Inc/Squarespace 6//v6//EN
BEGIN:VEVENT
UID:5a253c468165f55746ea009e@squarespace.com
DTSTAMP:20180122T125517Z
DTSTART:20180127T083000Z
DTEND:20180127T093000Z
SUMMARY:ATELIER CUISINE en rapport avec la maladie
GEO:49.503074;6.281869
LOCATION:Mondorf Domaine Thermal\, Avenue des Bains\, Mondorf-les-Bains\, 5
 610\, Luxembourg
END:VEVENT
END:VCALENDAR
