BEGIN:VCALENDAR
VERSION:2.0
PRODID:-//Squarespace Inc/Squarespace 6//v6//EN
BEGIN:VEVENT
UID:57208a922eeb818946e25828@squarespace.com
DTSTAMP:20170628T140607Z
DTSTART:20171205T123000Z
DTEND:20171205T143000Z
SUMMARY:Comment avoir une sexualité épanouissante avec son cancer?
GEO:49.617262;6.097899
LOCATION:CHL Maternité - Salle de conférence au 1er étage\, 2\, Rue Pierre 
 Federspiel\, 1512 Luxembourg\, Luxembourg
END:VEVENT
END:VCALENDAR
