BEGIN:VCALENDAR
VERSION:2.0
PRODID:-//Squarespace Inc/Squarespace 6//v6//EN
BEGIN:VEVENT
UID:5b4da9970e2e7251c43facf0@squarespace.com
DTSTAMP:20180717T091933Z
DTSTART:20180808T153000Z
DTEND:20180920T200000Z
SUMMARY:Escapade d'été
END:VEVENT
END:VCALENDAR
