BEGIN:VCALENDAR
VERSION:2.0
PRODID:-//Squarespace Inc/Squarespace 6//v6//EN
BEGIN:VEVENT
UID:595a143eebbd1a2d6de30800@squarespace.com
DTSTAMP:20180717T083224Z
DTSTART:20170703T100000Z
DTEND:20170829T110000Z
SUMMARY:''Escapade d'été'' 
END:VEVENT
END:VCALENDAR
