BEGIN:VCALENDAR
VERSION:2.0
PRODID:-//Squarespace Inc/Squarespace 6//v6//EN
BEGIN:VEVENT
UID:595a0dfad482e969dd2ebb7e@squarespace.com
DTSTAMP:20170705T094546Z
DTSTART:20170703T093000Z
DTEND:20170706T103000Z
SUMMARY:Invitation au Charity Event au Réiser Päerdsdeeg 
GEO:49.535554;6.146977
LOCATION:Réiser Päerdsdeeg\, Roeser\, Luxembourg\, Luxembourg
END:VEVENT
END:VCALENDAR
