BEGIN:VCALENDAR
VERSION:2.0
PRODID:-//Squarespace Inc/Squarespace 6//v6//EN
BEGIN:VEVENT
UID:59c8ae5df5e231573fe12ddc@squarespace.com
DTSTAMP:20170925T113230Z
DTSTART:20171001T123000Z
DTEND:20171001T163000Z
SUMMARY:Le 1er octobre\, pensez rose et DANSEZ !
END:VEVENT
END:VCALENDAR
