BEGIN:VCALENDAR
VERSION:2.0
PRODID:-//Squarespace Inc/Squarespace 6//v6//EN
BEGIN:VEVENT
UID:59ca011b46c3c4adaa1c8277@squarespace.com
DTSTAMP:20170926T074917Z
DTSTART:20170928T130000Z
DTEND:20170928T150000Z
SUMMARY:Groupe de paroles pour femmes porteuses des mutations génétiques BR
 CA1 ou BRCA2
GEO:49.615259;6.105573
LOCATION:Fondation Cancer\, 209\, Route d'Arlon\, Luxembourg\, District de 
 Luxembourg\, 1150\, Luxembourg
END:VEVENT
END:VCALENDAR
