BEGIN:VCALENDAR
VERSION:2.0
PRODID:-//Squarespace Inc/Squarespace 6//v6//EN
BEGIN:VEVENT
UID:5a4b54fde2c483236c29ea12@squarespace.com
DTSTAMP:20180102T095712Z
DTSTART:20180118T140000Z
DTEND:20180118T160000Z
SUMMARY:Groupe de paroles pour femmes porteuses des mutations génétiques BR
 CA1 ou BRCA2
GEO:49.615259;6.105573
LOCATION:Fondation Cancer\, 209\, Route d'Arlon\, Luxembourg\, District de 
 Luxembourg\, 1150\, Luxembourg
END:VEVENT
END:VCALENDAR
