BEGIN:VCALENDAR
VERSION:2.0
PRODID:-//Squarespace Inc/Squarespace 6//v6//EN
BEGIN:VEVENT
UID:5a65dea58165f575c9643a23@squarespace.com
DTSTAMP:20180122T130118Z
DTSTART:20180220T143000Z
DTEND:20180220T153000Z
SUMMARY:Ateliers de relaxation\, de stablisation émotionnelle
GEO:49.617454;6.098594
LOCATION:Maternité Grand-Duchesse Charlotte\, 2\, Rue Pierre Federspiel\, L
 uxembourg\, District de Luxembourg\, 1512\, Luxembourg
END:VEVENT
END:VCALENDAR
