BEGIN:VCALENDAR
VERSION:2.0
PRODID:-//Squarespace Inc/Squarespace 6//v6//EN
BEGIN:VEVENT
UID:5a65cb5eec212d8a1bab9d63@squarespace.com
DTSTAMP:20180122T130429Z
DTSTART:20180206T123000Z
DTEND:20180206T143000Z
SUMMARY:Quelles sont les thérapies utilisées en psycho-oncologie : Hypnose\
 , EMDR\, Mindfulness
GEO:49.617454;6.098594
LOCATION:Maternité Grand-Duchesse Charlotte\, 2 Rue Pierre Federspiel\, Lux
 embourg\, District de Luxembourg\, 1512\, Luxembourg
END:VEVENT
END:VCALENDAR
