BEGIN:VCALENDAR
VERSION:2.0
PRODID:-//Squarespace Inc/Squarespace 6//v6//EN
BEGIN:VEVENT
UID:5a703e69ec212d06a86d5f4f@squarespace.com
DTSTAMP:20180130T102630Z
DTSTART:20180130T070000Z
DTEND:20180215T170000Z
SUMMARY:Appel à Photos organisé par la Fondation cancer 
END:VEVENT
END:VCALENDAR
