BEGIN:VCALENDAR
VERSION:2.0
PRODID:-//Squarespace Inc/Squarespace 6//v6//EN
BEGIN:VEVENT
UID:5b976f3703ce643bea3507e2@squarespace.com
DTSTAMP:20180911T084439Z
DTSTART:20181017T110000Z
DTEND:20181017T153000Z
SUMMARY:Ménopause café
GEO:49.617495;6.09864
LOCATION:Maternité / Salle de conférence 1.étage\, 2\,Rue Pierre Federspiel
 \, District de Luxembourg\, 1512\, Luxembourg
END:VEVENT
END:VCALENDAR
