BEGIN:VCALENDAR
VERSION:2.0
PRODID:-//Squarespace Inc/Squarespace 6//v6//EN
BEGIN:VEVENT
UID:5ba9e894e2c483e9c5672214@squarespace.com
DTSTAMP:20181022T065343Z
DTSTART:20181018T160000Z
DTEND:20181018T193000Z
SUMMARY:THE TETONS TATTOO SHOP &amp\; Les FRANJYNES ON TOUR 
GEO:49.608264;6.119278
LOCATION:THE OFFICE\, 29 Boulevard Grande-Duchesse Charlotte\, Luxembourg\, 
 District de Luxembourg\, 1331\, Luxembourg
END:VEVENT
END:VCALENDAR
