BEGIN:VCALENDAR
VERSION:2.0
PRODID:-//Squarespace Inc/Squarespace 6//v6//EN
BEGIN:VEVENT
UID:5bbc65d3e79c70722690f258@squarespace.com
DTSTAMP:20181015T124216Z
DTSTART:20181017T163000Z
DTEND:20181017T190000Z
SUMMARY:Présentation du centre de convalescence de Colpach et du centre the
 rmal et de santé de Mondorf
GEO:49.618725;6.101101
LOCATION:Amphithéâtre du CHL\, 4\, Rue Nicolas Ernest Barblé\, Luxembourg\, 
 District de Luxembourg\, 1210\, Luxembourg
END:VEVENT
END:VCALENDAR
