BEGIN:VCALENDAR
VERSION:2.0
PRODID:-//Squarespace Inc/Squarespace 6//v6//EN
BEGIN:VEVENT
UID:5ba0c7af898583ea629f51cd@squarespace.com
DTSTAMP:20181112T084818Z
DTSTART:20181115T183000Z
DTEND:20181115T200000Z
SUMMARY:Lésions frontières du sein et désescalade thérapeutique\, surveille
 r ou opérer?
GEO:49.618819;6.080755
LOCATION:Institut de gynécologie-obstétrique/ Institut du sein\, 121\, Rout
 e d'Arlon\, Strassen\, District de Luxembourg\, 8009\, Luxembourg
END:VEVENT
END:VCALENDAR
