BEGIN:VCALENDAR
VERSION:2.0
PRODID:-//Squarespace Inc/Squarespace 6//v6//EN
BEGIN:VEVENT
UID:5be97d9440ec9a97ddcb6371@squarespace.com
DTSTAMP:20181113T101243Z
DTSTART:20181121T173000Z
DTEND:20181121T200000Z
SUMMARY:Hub Dot  Luxemburg "making the world a better place"
GEO:49.601291;6.067802
LOCATION:BO Concept Urban Design\, 74\, Route de Longwy\, Bertrange\, Distr
 ict de Luxembourg\, 8080\, Luxembourg
END:VEVENT
END:VCALENDAR
