BEGIN:VCALENDAR
VERSION:2.0
PRODID:-//Squarespace Inc/Squarespace 6//v6//EN
BEGIN:VEVENT
UID:5c17a4cbf950b7d4a3790102@squarespace.com
DTSTAMP:20181217T134334Z
DTSTART:20181217T133000Z
DTEND:20190101T225900Z
SUMMARY:WIN : PARTICIPEZ ! ...plus que quelques jours....
END:VEVENT
END:VCALENDAR
