BEGIN:VCALENDAR
VERSION:2.0
PRODID:-//Squarespace Inc/Squarespace 6//v6//EN
BEGIN:VEVENT
UID:5c0e26846d2a73796733a98e@squarespace.com
DTSTAMP:20181210T085821Z
DTSTART:20181219T173000Z
DTEND:20181219T190000Z
SUMMARY:Essentrics : Christmas Party
END:VEVENT
END:VCALENDAR
