BEGIN:VCALENDAR
VERSION:2.0
PRODID:-//Squarespace Inc/Squarespace 6//v6//EN
BEGIN:VEVENT
UID:5a4b57ac9140b7ea14387d3c@squarespace.com
DTSTAMP:20180102T100801Z
DTSTART:20180227T170000Z
DTEND:20180227T180000Z
SUMMARY:L'hypnose\, peut-elle m'aider pendant mon traitement ?
GEO:49.615259;6.105573
LOCATION:Fondation Cancer\, 209\, Route d'Arlon\, Luxembourg\, District de 
 Luxembourg\, 1150\, Luxembourg
END:VEVENT
END:VCALENDAR
