BEGIN:VCALENDAR
VERSION:2.0
PRODID:-//Squarespace Inc/Squarespace 6//v6//EN
BEGIN:VEVENT
UID:5a9cfc218165f55874829fa1@squarespace.com
DTSTAMP:20180306T063441Z
DTSTART:20180310T080000Z
DTEND:20180310T113000Z
SUMMARY:Matinée du Sport 
GEO:49.618725;6.101101
LOCATION:Centre Hospitalier du Luxembourg / Amphithéatre\, 4\, Rue Nicolas 
 Ernest Barblé\, Luxembourg\, District de Luxembourg\, 1210\, Luxembourg
END:VEVENT
END:VCALENDAR
