BEGIN:VCALENDAR
VERSION:2.0
PRODID:-//Squarespace Inc/Squarespace 6//v6//EN
BEGIN:VEVENT
UID:5aaf7dbc2b6a28af3edec5a6@squarespace.com
DTSTAMP:20180319T131813Z
DTSTART:20180531T180000Z
DTEND:20180531T230000Z
SUMMARY:ROCK AGAINST CANCER
GEO:49.499898;5.947437
LOCATION:Rockhal\, 5\, Avenue du Rock'n'Roll\, Esch-sur-Alzette\, District 
 de Luxembourg\, 4361\, Luxembourg
END:VEVENT
END:VCALENDAR
