BEGIN:VCALENDAR
VERSION:2.0
PRODID:-//Squarespace Inc/Squarespace 6//v6//EN
BEGIN:VEVENT
UID:5a65e1b49140b7b61f713a71@squarespace.com
DTSTAMP:20180312T094728Z
DTSTART:20180320T123000Z
DTEND:20180320T143000Z
SUMMARY:Ateliers de relaxation\, de stablilisation émotionnelle
GEO:49.617454;6.098594
LOCATION:Maternité Grand-Duchesse Charlotte\, 2\, Rue Pierre Federspiel\, L
 uxembourg\, District de Luxembourg\, 1512\, Luxembourg
END:VEVENT
END:VCALENDAR
