BEGIN:VCALENDAR
VERSION:2.0
PRODID:-//Squarespace Inc/Squarespace 6//v6//EN
BEGIN:VEVENT
UID:5c34749c4ae2379d4341caa9@squarespace.com
DTSTAMP:20190205T111244Z
DTSTART:20190323T183000Z
DTEND:20190324T073000Z
SUMMARY:RELAIS POUR LA VIE 2019
GEO:49.623697;6.154008
LOCATION:Coque\, 2 Rue Léon Hengen\, Luxembourg\, District de Luxembourg\, 
 1745\, Luxembourg
END:VEVENT
END:VCALENDAR
