BEGIN:VCALENDAR
VERSION:2.0
PRODID:-//Squarespace Inc/Squarespace 6//v6//EN
BEGIN:VEVENT
UID:5b059ff30e2e723067fb489b@squarespace.com
DTSTAMP:20180604T131121Z
DTSTART:20180714T060000Z
DTEND:20180714T180000Z
SUMMARY:Charity : Tournoi de Golf 
GEO:49.505154;6.217061
LOCATION:Château de Preisch\, 1\, rue du vieux Moulin\, 57570 Basse-Rentgen
 \, France
END:VEVENT
END:VCALENDAR
