BEGIN:VCALENDAR
VERSION:2.0
PRODID:-//Squarespace Inc/Squarespace 6//v6//EN
BEGIN:VEVENT
UID:5a65e5ff71c10b2e8a6ef5df@squarespace.com
DTSTAMP:20180319T132446Z
DTSTART:20180612T113000Z
DTEND:20180612T133000Z
SUMMARY:Atelier de relaxation\, de stabilisation émotionnelle
GEO:49.617454;6.098594
LOCATION:Maternité\, 2\, Rue Pierre Federspiel\, Luxembourg\, District de L
 uxembourg\, 1512\, Luxembourg
END:VEVENT
END:VCALENDAR
