BEGIN:VCALENDAR
VERSION:2.0
PRODID:-//Squarespace Inc/Squarespace 6//v6//EN
BEGIN:VEVENT
UID:5b3b3ba2758d46337de58536@squarespace.com
DTSTAMP:20180703T090835Z
DTSTART:20181023T113000Z
DTEND:20181023T133000Z
SUMMARY: Ateliers de relaxation et stabilisation émotionnelle
GEO:49.618034;6.097515
LOCATION:Maternité\, 2\, Rue Pierre Federspiel\, Luxembourg\, District de L
 uxembourg\, 1512\, Luxembourg
END:VEVENT
END:VCALENDAR
