BEGIN:VCALENDAR
VERSION:2.0
PRODID:-//Squarespace Inc/Squarespace 6//v6//EN
BEGIN:VEVENT
UID:5c346b6270a6ad0ce766efd7@squarespace.com
DTSTAMP:20190225T133150Z
DTSTART:20190319T123000Z
DTEND:20190319T143000Z
SUMMARY: Ateliers de relaxation et stabilisation émotionnelle
GEO:49.618034;6.097515
LOCATION:Maternité\, 2\, Rue Pierre Federspiel\, Luxembourg\, District de L
 uxembourg\, 1512\, Luxembourg
END:VEVENT
END:VCALENDAR
