BEGIN:VCALENDAR
VERSION:2.0
PRODID:-//Squarespace Inc/Squarespace 6//v6//EN
BEGIN:VEVENT
UID:5d1b141c66aa890001dc5085@squarespace.com
DTSTAMP:20190702T083931Z
DTSTART:20191008T113000Z
DTEND:20191008T133000Z
SUMMARY:Ateliers de relaxation et stabilisation émotionnelle
GEO:49.618034;6.097515
LOCATION:Maternité\, 2\, Rue Pierre Federspiel\, Luxembourg\, District de L
 uxembourg\, 1512\, Luxembourg
END:VEVENT
END:VCALENDAR
