BEGIN:VCALENDAR
VERSION:2.0
PRODID:-//Squarespace Inc/Squarespace 6//v6//EN
BEGIN:VEVENT
UID:5c346b428a922d7c5cfbac79@squarespace.com
DTSTAMP:20190108T093401Z
DTSTART:20190611T113000Z
DTEND:20190611T133000Z
SUMMARY: Ateliers de relaxation et stabilisation émotionnelle
GEO:49.618034;6.097515
LOCATION:Maternité\, 2\, Rue Pierre Federspiel\, Luxembourg\, District de L
 uxembourg\, 1512\, Luxembourg
END:VEVENT
END:VCALENDAR
