BEGIN:VCALENDAR
VERSION:2.0
PRODID:-//Squarespace Inc/Squarespace 6//v6//EN
BEGIN:VEVENT
UID:5b3b2e9188251b554c51c3ed@squarespace.com
DTSTAMP:20180703T084840Z
DTSTART:20180710T113000Z
DTEND:20180710T133000Z
SUMMARY:Ateliers de relaxation\, de stabilisation émotionnelle
GEO:49.618034;6.097515
LOCATION:Maternité\, Rue Pierre Federspiel\, Luxembourg\, District de Luxem
 bourg\, Luxembourg
END:VEVENT
END:VCALENDAR
