BEGIN:VCALENDAR
VERSION:2.0
PRODID:-//Squarespace Inc/Squarespace 6//v6//EN
BEGIN:VEVENT
UID:5c346b4d4fa51ada530dc12c@squarespace.com
DTSTAMP:20190402T095821Z
DTSTART:20190522T113000Z
DTEND:20190522T133000Z
SUMMARY:L'intérêt de l'hypnose et EMDR dans la prise en charge du cancer
GEO:49.618034;6.097515
LOCATION:Maternité\, 2\, Rue Pierre Federspiel\, Luxembourg\, District de L
 uxembourg\, 1512\, Luxembourg
END:VEVENT
END:VCALENDAR
