BEGIN:VCALENDAR
VERSION:2.0
PRODID:-//Squarespace Inc/Squarespace 6//v6//EN
BEGIN:VEVENT
UID:5b3b40d903ce646a88bd61b4@squarespace.com
DTSTAMP:20180703T094307Z
DTSTART:20181127T123000Z
DTEND:20181127T143000Z
SUMMARY:La gestion des bouffées de chaleur après un cancer du sein
GEO:45.692835;-73.63549
LOCATION:Maternité\, 2\, Rue Pierre Federspiel\, Luxembourg\, District de L
 uxembourg\, 1512\, Luxembourg
END:VEVENT
END:VCALENDAR
