BEGIN:VCALENDAR
VERSION:2.0
PRODID:-//Squarespace Inc/Squarespace 6//v6//EN
BEGIN:VEVENT
UID:5ae6cdb003ce64d372f8c4f3@squarespace.com
DTSTAMP:20180430T082140Z
DTSTART:20180707T070000Z
DTEND:20180707T080000Z
SUMMARY:Ladie's run 2018  sous le thème LIVE\, LOVE MOVE
GEO:49.509498;6.277864
LOCATION:4\, rue des Vignes\, 5657 Mondorf-les-Bains\, Luxembourg
END:VEVENT
END:VCALENDAR
