BEGIN:VCALENDAR
VERSION:2.0
PRODID:-//Squarespace Inc/Squarespace 6//v6//EN
BEGIN:VEVENT
UID:5ba0bc20aa4a994c415abde4@squarespace.com
DTSTAMP:20180918T092917Z
DTSTART:20180924T060000Z
DTEND:20180924T150000Z
SUMMARY: Mo\, Xi\, Zu\, Mu\, Mab…do you speak immuno ?
GEO:49.618725;6.101101
LOCATION:CHL- Amphithéatre\, 4\, Rue Nicolas Ernest Barblé\, Luxembourg\, D
 istrict de Luxembourg\, 1210\, Luxembourg
END:VEVENT
END:VCALENDAR
