BEGIN:VCALENDAR
VERSION:2.0
PRODID:-//Squarespace Inc/Squarespace 6//v6//EN
BEGIN:VEVENT
UID:5b90f1a103ce64a4fa0f651c@squarespace.com
DTSTAMP:20190723T090922Z
DTSTART:20180919T160000Z
DTEND:20190919T180000Z
SUMMARY:- WIN - oeuvre participative de l’artiste Jacques Schneider
GEO:49.603002;6.132436
LOCATION:Kritzelfabrik\, 3\, rue Origer\, Luxembourg\, District de Luxembou
 rg\, 2269\, Luxembourg
END:VEVENT
END:VCALENDAR
