BEGIN:VCALENDAR
VERSION:2.0
PRODID:-//Squarespace Inc/Squarespace 6//v6//EN
BEGIN:VEVENT
UID:5c345d2c70a6ad0ce7669bd6@squarespace.com
DTSTAMP:20190108T095411Z
DTSTART:20190128T123000Z
DTEND:20190128T143000Z
SUMMARY:La reconstruction après un cancer du sein 
END:VEVENT
END:VCALENDAR
